BEGIN:VCALENDAR
VERSION:2.0
PRODID:-//Super Show//EVENT 1.0//EN
METHOD:PUBLISH
BEGIN:VEVENT
SUMMARY:Bookbinding Workshop with Lynn Cahill - Malahide
UID:024facb9761fba0ad2e8d9af3903b9e8
SEQUENCE:0
DTSTART:20260523T110000
DTEND:20260523T130000
ORGANIZER;CN=Events Fingal:MAILTO:events@fingal.ie
LOCATION:Malahide Library, Malahide Library, Main St, Malahide, Co. Dublin, K36 EW63, Malahide, Dublin, K36 EW63, Ireland
DTSTAMP:20260422T195841
DESCRIPTION:<p>To reserve a place, please contact the library hosting the event.</p>
URL:https://www.eventsinfingal.ie/events/bookbinding-workshop-with-lynn-cahill-malahide
END:VEVENT
END:VCALENDAR