BEGIN:VCALENDAR
VERSION:2.0
PRODID:-//Super Show//EVENT 1.0//EN
METHOD:PUBLISH
BEGIN:VEVENT
SUMMARY:Bookbinding Workshop with Lynn Cahill - Swords
UID:fdc44a63d8438725d66e8143e4a20976
SEQUENCE:0
DTSTART:20260509T104500
DTEND:20260509T124500
ORGANIZER;CN=Events Fingal:MAILTO:events@fingal.ie
LOCATION:Swords Library, 46 North Street SWORDS, Swords, Dublin, K67 W8W9, Ireland
DTSTAMP:20260422T200603
DESCRIPTION:<p>To reserve a place, please contact the library hosting the event.</p>
URL:https://www.eventsinfingal.ie/events/bookbinding-workshop-with-lynn-cahill-swords
END:VEVENT
END:VCALENDAR