BEGIN:VCALENDAR
VERSION:2.0
PRODID:-//Super Show//EVENT 1.0//EN
METHOD:PUBLISH
BEGIN:VEVENT
SUMMARY:Donabate Portrane Summer Festival
UID:01f5812d292f66a8937438e3d24f94e0
SEQUENCE:0
DTSTART:20260807T080000
DTEND:20260809T200000
ORGANIZER;CN=Events Fingal:MAILTO:events@fingal.ie
LOCATION:Donabate
DTSTAMP:20260420T091611
DESCRIPTION:
URL:https://www.eventsinfingal.ie/events/donabate-portrane-summer-festival-1
END:VEVENT
END:VCALENDAR