BEGIN:VCALENDAR
VERSION:2.0
PRODID:-//Super Show//EVENT 1.0//EN
METHOD:PUBLISH
BEGIN:VEVENT
SUMMARY:Drum Lampshade Making with Michelle Power - Balbriggan
UID:fc5228c6bbb2c84f23489069fcdd14ea
SEQUENCE:0
DTSTART:20260509T100000
DTEND:20260509T120000
ORGANIZER;CN=Events Fingal:MAILTO:events@fingal.ie
LOCATION:Balbriggan Library, 8 St George's Square BALBRIGGAN, Dublin, Dublin, K32 FX27, Ireland
DTSTAMP:20260422T200426
DESCRIPTION:<p>To reserve a place, please contact the library hosting the event.</p>
URL:https://www.eventsinfingal.ie/events/drum-lampshade-making-with-michelle-power-balbriggan
END:VEVENT
END:VCALENDAR