BEGIN:VCALENDAR
VERSION:2.0
PRODID:-//Super Show//EVENT 1.0//EN
METHOD:PUBLISH
BEGIN:VEVENT
SUMMARY:Drum Lampshade Making with Michelle Power - Donabate
UID:e3343d77dc1d40627f430f57762ab9b1
SEQUENCE:0
DTSTART:20260509T140000
DTEND:20260509T160000
ORGANIZER;CN=Events Fingal:MAILTO:events@fingal.ie
LOCATION:Donabate Library, Donabate Library, Ballisk House, Portrane Road, Donabate, Donabate, Dublin, K36E009, Ireland
DTSTAMP:20260423T155909
DESCRIPTION:<p>To reserve a place, please contact the library hosting the event.</p>
URL:https://www.eventsinfingal.ie/events/drum-lampshade-making-with-michelle-power-donabate
END:VEVENT
END:VCALENDAR