BEGIN:VCALENDAR
VERSION:2.0
PRODID:-//Super Show//EVENT 1.0//EN
METHOD:PUBLISH
BEGIN:VEVENT
SUMMARY:Drum Lampshade Making with Michelle Power - Skerries
UID:7ee13a0ab4ce21e4ab8ef495bc51ae69
SEQUENCE:0
DTSTART:20260506T120000
DTEND:20260506T140000
ORGANIZER;CN=Events Fingal:MAILTO:events@fingal.ie
LOCATION:Skerries Library, Strand Street,  Skerries  Co. Dublin, Skerries, Dublin, Ireland
DTSTAMP:20260422T200200
DESCRIPTION:<p>To reserve a place, please contact the library hosting the event.</p>
URL:https://www.eventsinfingal.ie/events/drum-lampshade-making-with-michelle-power-skerries
END:VEVENT
END:VCALENDAR