BEGIN:VCALENDAR
VERSION:2.0
PRODID:-//Super Show//EVENT 1.0//EN
METHOD:PUBLISH
BEGIN:VEVENT
SUMMARY:It is Never too Late to Be a Poet with Felicia McCarthy - Donabate
UID:04d62da8819d97bbf01892285274cc7c
SEQUENCE:0
DTSTART:20260513T180000
DTEND:20260513T190000
ORGANIZER;CN=Events Fingal:MAILTO:events@fingal.ie
LOCATION:Donabate Library, Donabate Library, Ballisk House, Portrane Road, Donabate, Donabate, Dublin, K36E009, Ireland
DTSTAMP:20260423T160012
DESCRIPTION:<p>To reserve a place, please contact the library hosting the event.</p>
URL:https://www.eventsinfingal.ie/events/it-is-never-too-late-to-be-a-poet-with-felicia-mccarthy-donabate
END:VEVENT
END:VCALENDAR