BEGIN:VCALENDAR
VERSION:2.0
PRODID:-//Super Show//EVENT 1.0//EN
METHOD:PUBLISH
BEGIN:VEVENT
SUMMARY:It is Never too Late to Be a Poet with Felicia McCarthy - Howth
UID:8033bc55224fe3e798179a8a8d1a4966
SEQUENCE:0
DTSTART:20260514T100000
DTEND:20260514T110000
ORGANIZER;CN=Events Fingal:MAILTO:events@fingal.ie
LOCATION:Howth Library, Main St, Howth, Dublin, Howth, Dublin, Ireland
DTSTAMP:20260422T200307
DESCRIPTION:<p>To reserve a place, please contact the library hosting the event.</p>
URL:https://www.eventsinfingal.ie/events/it-is-never-too-late-to-be-a-poet-with-felicia-mccarthy-howth
END:VEVENT
END:VCALENDAR