BEGIN:VCALENDAR
VERSION:2.0
PRODID:-//Super Show//EVENT 1.0//EN
METHOD:PUBLISH
BEGIN:VEVENT
SUMMARY:Malahide Castle Concerts
UID:29c171b7fcb799882218b83a1d8a6045
SEQUENCE:0
DTSTART:20260610T170000
DTEND:20260630T230000
ORGANIZER;CN=Events Fingal:MAILTO:events@fingal.ie
LOCATION:Malahide, Malahide
DTSTAMP:20260425T025733
DESCRIPTION:<p>Malahide Castle comes alive with some of the worlds greatest muscians in 2026</p>
URL:https://www.eventsinfingal.ie/events/malahide-castle-concerts
END:VEVENT
END:VCALENDAR