BEGIN:VCALENDAR
VERSION:2.0
PRODID:-//Super Show//EVENT 1.0//EN
METHOD:PUBLISH
BEGIN:VEVENT
SUMMARY:Memoir Writing with Anne McDonald - Malahide
UID:dab9bf150cf051ef73ec40757b0d112f
SEQUENCE:0
DTSTART:20260518T183000
DTEND:20260518T193000
ORGANIZER;CN=Events Fingal:MAILTO:events@fingal.ie
LOCATION:Malahide Library, Malahide Library, Main St, Malahide, Co. Dublin, K36 EW63, Malahide, Dublin, Ireland
DTSTAMP:20260422T200052
DESCRIPTION:<p>To reserve a place, please contact the library hosting the event.</p>
URL:https://www.eventsinfingal.ie/events/memoir-writing-with-anne-mcdonald-malahide
END:VEVENT
END:VCALENDAR