BEGIN:VCALENDAR
VERSION:2.0
PRODID:-//Super Show//EVENT 1.0//EN
METHOD:PUBLISH
BEGIN:VEVENT
SUMMARY:Memoir Writing with Anne McDonald - Swords
UID:53ecc170981570eaa500717e2ad4fdf9
SEQUENCE:0
DTSTART:20260511T110000
DTEND:20260511T120000
ORGANIZER;CN=Events Fingal:MAILTO:events@fingal.ie
LOCATION:Swords Library, 46 North Street SWORDS, Swords, Dublin, K67 W8W9, Ireland
DTSTAMP:20260422T195728
DESCRIPTION:<p>To reserve a place, please contact the library hosting the event.</p>
URL:https://www.eventsinfingal.ie/events/memoir-writing-with-anne-mcdonald-swords-1
END:VEVENT
END:VCALENDAR