BEGIN:VCALENDAR
VERSION:2.0
PRODID:-//Super Show//EVENT 1.0//EN
METHOD:PUBLISH
BEGIN:VEVENT
SUMMARY:Éilís Ní Dhuibhe, Laureate for Irish Fiction, in conversation with Caitriona Lally
UID:760e6be9eec08434a3c4b5d2d16d37eb
SEQUENCE:0
DTSTART:20260513T190000
DTEND:20260513T200000
ORGANIZER;CN=Events Fingal:MAILTO:events@fingal.ie
LOCATION:Skerries Library, 56 Church Street Skerries, Skerries, Dublin, Ireland
DTSTAMP:20260422T200200
DESCRIPTION:<p>To reserve a place, please contact the library hosting the event.</p>
URL:https://www.eventsinfingal.ie/events/toilt-s-nt-dhuibhe-laureate-for-irish-fiction-in-conversation-with-caitriona-lally
END:VEVENT
END:VCALENDAR