BEGIN:VCALENDAR
VERSION:2.0
PRODID:-//Super Show//EVENT 1.0//EN
METHOD:PUBLISH
BEGIN:VEVENT
SUMMARY:Women's Irish Challenge
UID:9be3e0f9af2cbc9d34a2fb878d485fec
SEQUENCE:0
DTSTART:20260729T080000
DTEND:20260730T170000
ORGANIZER;CN=Events Fingal:MAILTO:events@fingal.ie
LOCATION:Malahide
DTSTAMP:20260420T093743
DESCRIPTION:
URL:https://www.eventsinfingal.ie/events/women-s-irish-challenge
END:VEVENT
END:VCALENDAR